BEGIN:VCALENDAR
VERSION:2.0
PRODID:-//Anderson Falls Heritage Society - ECPv6.15.20//NONSGML v1.0//EN
CALSCALE:GREGORIAN
METHOD:PUBLISH
X-WR-CALNAME:Anderson Falls Heritage Society
X-ORIGINAL-URL:https://www.andersonfalls.org
X-WR-CALDESC:Events for Anderson Falls Heritage Society
REFRESH-INTERVAL;VALUE=DURATION:PT1H
X-Robots-Tag:noindex
X-PUBLISHED-TTL:PT1H
BEGIN:VTIMEZONE
TZID:America/New_York
BEGIN:DAYLIGHT
TZOFFSETFROM:-0500
TZOFFSETTO:-0400
TZNAME:EDT
DTSTART:20210314T070000
END:DAYLIGHT
BEGIN:STANDARD
TZOFFSETFROM:-0400
TZOFFSETTO:-0500
TZNAME:EST
DTSTART:20211107T060000
END:STANDARD
BEGIN:DAYLIGHT
TZOFFSETFROM:-0500
TZOFFSETTO:-0400
TZNAME:EDT
DTSTART:20220313T070000
END:DAYLIGHT
BEGIN:STANDARD
TZOFFSETFROM:-0400
TZOFFSETTO:-0500
TZNAME:EST
DTSTART:20221106T060000
END:STANDARD
BEGIN:DAYLIGHT
TZOFFSETFROM:-0500
TZOFFSETTO:-0400
TZNAME:EDT
DTSTART:20230312T070000
END:DAYLIGHT
BEGIN:STANDARD
TZOFFSETFROM:-0400
TZOFFSETTO:-0500
TZNAME:EST
DTSTART:20231105T060000
END:STANDARD
BEGIN:DAYLIGHT
TZOFFSETFROM:-0500
TZOFFSETTO:-0400
TZNAME:EDT
DTSTART:20240310T070000
END:DAYLIGHT
BEGIN:STANDARD
TZOFFSETFROM:-0400
TZOFFSETTO:-0500
TZNAME:EST
DTSTART:20241103T060000
END:STANDARD
BEGIN:DAYLIGHT
TZOFFSETFROM:-0500
TZOFFSETTO:-0400
TZNAME:EDT
DTSTART:20250309T070000
END:DAYLIGHT
BEGIN:STANDARD
TZOFFSETFROM:-0400
TZOFFSETTO:-0500
TZNAME:EST
DTSTART:20251102T060000
END:STANDARD
END:VTIMEZONE
BEGIN:VEVENT
DTSTART;TZID=America/New_York:20240222T150000
DTEND;TZID=America/New_York:20240222T170000
DTSTAMP:20260422T175836
CREATED:20240310T224400Z
LAST-MODIFIED:20240310T225512Z
UID:2705-1708614000-1708621200@www.andersonfalls.org
SUMMARY:AFHS Monthly Meeting - February 22\, 2024
DESCRIPTION:Meetings are free and open to the public.  All are welcome. \nAFHS meetings discuss all facets of the Museum\, including exhibits\, programs\, preserving our building and setting a direction for the Society and Museum. \n 
URL:https://www.andersonfalls.org/event/afhs-monthly-meeting-february-22-2024/
LOCATION:Anderson Falls Heritage House Museum\, 96 Clinton Street\, Keeseville\, NY\, 12944\, United States
CATEGORIES:AFHS Meetings
ATTACH;FMTTYPE=image/png:https://www.andersonfalls.org/wp4719046582/wp-content/uploads/2022/05/afhs-logo-oval-e1653003458916.png
END:VEVENT
BEGIN:VEVENT
DTSTART;TZID=America/New_York:20231130T150000
DTEND;TZID=America/New_York:20231130T163000
DTSTAMP:20260422T175836
CREATED:20230117T001724Z
LAST-MODIFIED:20231106T191034Z
UID:2368-1701356400-1701361800@www.andersonfalls.org
SUMMARY:Monthly Meeting\, November 2023
DESCRIPTION:Meetings are free and open to the public.  All are welcome. \n(Meeting held later due to Thanksgiving)\nNOTE!  All AFHS volunteer meetings will be held\, from now on\, at 3 PM.  Still on Thursdays as appropriate\, due to Holidays / Holy Days.  Some Events may have specific instructions.
URL:https://www.andersonfalls.org/event/monthly-meeting-8/
LOCATION:Anderson Falls Heritage House Museum\, 96 Clinton Street\, Keeseville\, NY\, 12944\, United States
CATEGORIES:AFHS Meetings
ATTACH;FMTTYPE=image/png:https://www.andersonfalls.org/wp4719046582/wp-content/uploads/2022/05/afhs-logo-oval-e1653003458916.png
END:VEVENT
BEGIN:VEVENT
DTSTART;TZID=America/New_York:20231026T153000
DTEND;TZID=America/New_York:20231026T170000
DTSTAMP:20260422T175836
CREATED:20230117T001405Z
LAST-MODIFIED:20230117T001500Z
UID:2365-1698334200-1698339600@www.andersonfalls.org
SUMMARY:Monthly Meeting\, October 2023
DESCRIPTION:Meetings are free and open to the public.  All are welcome.
URL:https://www.andersonfalls.org/event/monthly-meeting-7/
LOCATION:Anderson Falls Heritage House Museum\, 96 Clinton Street\, Keeseville\, NY\, 12944\, United States
CATEGORIES:AFHS Meetings
ATTACH;FMTTYPE=image/png:https://www.andersonfalls.org/wp4719046582/wp-content/uploads/2022/05/afhs-logo-oval-e1653003458916.png
END:VEVENT
BEGIN:VEVENT
DTSTART;TZID=America/New_York:20231007T140000
DTEND;TZID=America/New_York:20231007T140000
DTSTAMP:20260422T175836
CREATED:20230413T220601Z
LAST-MODIFIED:20230421T224352Z
UID:2481-1696687200-1696687200@www.andersonfalls.org
SUMMARY:AFHS Closing Day - October 7\, 2023
DESCRIPTION:Today\, the Museum will close for the season at the end of the regular Saturday hours.  We hope you had a great experience at the Museum and look forward to seeing you again in the future. \n  \nThank you from The Anderson Falls Heritage Society members and volunteers. \n 
URL:https://www.andersonfalls.org/event/afhs-closing-day-october-7-2023/
LOCATION:Anderson Falls Heritage House Museum\, 96 Clinton Street\, Keeseville\, NY\, 12944\, United States
CATEGORIES:AFHS Meetings
ATTACH;FMTTYPE=image/jpeg:https://www.andersonfalls.org/wp4719046582/wp-content/uploads/2023/04/WeAreClosed.jpg
END:VEVENT
BEGIN:VEVENT
DTSTART;TZID=America/New_York:20230928T153000
DTEND;TZID=America/New_York:20230928T170000
DTSTAMP:20260422T175836
CREATED:20230117T001136Z
LAST-MODIFIED:20230117T001244Z
UID:2362-1695915000-1695920400@www.andersonfalls.org
SUMMARY:Monthly Meeting\, September 2023
DESCRIPTION:Meetings are free and open to the public.  All are welcome.
URL:https://www.andersonfalls.org/event/monthly-meeting-6/
LOCATION:Anderson Falls Heritage House Museum\, 96 Clinton Street\, Keeseville\, NY\, 12944\, United States
CATEGORIES:AFHS Meetings
ATTACH;FMTTYPE=image/png:https://www.andersonfalls.org/wp4719046582/wp-content/uploads/2022/05/afhs-logo-oval-e1653003458916.png
END:VEVENT
BEGIN:VEVENT
DTSTART;TZID=America/New_York:20230920T190000
DTEND;TZID=America/New_York:20230920T210000
DTSTAMP:20260422T175836
CREATED:20230413T210739Z
LAST-MODIFIED:20240312T191015Z
UID:2474-1695236400-1695243600@www.andersonfalls.org
SUMMARY:2023 Summer Speaker #3 - "Queen City To Keeseville"
DESCRIPTION:Guest Speaker: James “Jim” Jones \nProgram Summary: All aboard for a nostalgic adventure from Burlington Vermont to Keeseville\, highlighted by the development of Au Sable Chasm and the 1890 arrival of the Keeseville\, Au Sable Chasm & Lake Champlain Railroad. \nDiscounted KEESEVILLE RAILROAD book and DVD for sale at the show. \nPrintable Program Flyer \n  \n  \n 
URL:https://www.andersonfalls.org/event/summer-speaker-series-3-the-peanut-railroad/
LOCATION:Keeseville Fire Department\, 8 Pleasant Street\, Keeseville\, NY\, 12944\, United States
CATEGORIES:Summer Speakers Program
ATTACH;FMTTYPE=image/jpeg:https://www.andersonfalls.org/wp4719046582/wp-content/uploads/2023/05/Jim-Jones-AFHS-Sep-2023.jpg
END:VEVENT
BEGIN:VEVENT
DTSTART;TZID=America/New_York:20230824T153000
DTEND;TZID=America/New_York:20230824T170000
DTSTAMP:20260422T175836
CREATED:20230117T000613Z
LAST-MODIFIED:20230117T000735Z
UID:2358-1692891000-1692896400@www.andersonfalls.org
SUMMARY:Monthly Meeting\, August 2023
DESCRIPTION:Meetings are free and open to the public.  All are welcome.
URL:https://www.andersonfalls.org/event/monthly-meeting-5/
LOCATION:Anderson Falls Heritage House Museum\, 96 Clinton Street\, Keeseville\, NY\, 12944\, United States
CATEGORIES:AFHS Meetings
ATTACH;FMTTYPE=image/png:https://www.andersonfalls.org/wp4719046582/wp-content/uploads/2022/05/afhs-logo-oval-e1653003458916.png
END:VEVENT
BEGIN:VEVENT
DTSTART;TZID=America/New_York:20230816T190000
DTEND;TZID=America/New_York:20230816T210000
DTSTAMP:20260422T175836
CREATED:20230413T205052Z
LAST-MODIFIED:20230514T205705Z
UID:2467-1692212400-1692219600@www.andersonfalls.org
SUMMARY:2023 Summer Speaker #2 - "Underground Railroad in the North Country: Then and Now"
DESCRIPTION:Guest Speaker: Jackie Madison \nProgram Summary: The North Country played an integral role in the Underground Railroad\, the secretive network that guided people to freedom\, before the Civil War. \nPrintable Program Flyer
URL:https://www.andersonfalls.org/event/summer-speaker-series-2-underground-railroad-historic-events/
LOCATION:Keeseville Fire Department\, 8 Pleasant Street\, Keeseville\, NY\, 12944\, United States
CATEGORIES:Summer Speakers Program
ATTACH;FMTTYPE=image/jpeg:https://www.andersonfalls.org/wp4719046582/wp-content/uploads/2023/05/Jackie-Madison-AFHS-Aug-2023.jpg
END:VEVENT
BEGIN:VEVENT
DTSTART;TZID=America/New_York:20230727T153000
DTEND;TZID=America/New_York:20230727T170000
DTSTAMP:20260422T175836
CREATED:20230117T000305Z
LAST-MODIFIED:20230117T000420Z
UID:2355-1690471800-1690477200@www.andersonfalls.org
SUMMARY:Monthly Meeting\, July 2023
DESCRIPTION:Meetings are free and open to the public.  All are welcome.
URL:https://www.andersonfalls.org/event/monthly-meeting-4/
LOCATION:Anderson Falls Heritage House Museum\, 96 Clinton Street\, Keeseville\, NY\, 12944\, United States
CATEGORIES:AFHS Meetings
ATTACH;FMTTYPE=image/png:https://www.andersonfalls.org/wp4719046582/wp-content/uploads/2022/05/afhs-logo-oval-e1653003458916.png
END:VEVENT
BEGIN:VEVENT
DTSTART;TZID=America/New_York:20230721T170000
DTEND;TZID=America/New_York:20230722T160000
DTSTAMP:20260422T175836
CREATED:20230713T171230Z
LAST-MODIFIED:20230713T174939Z
UID:2648-1689958800-1690041600@www.andersonfalls.org
SUMMARY:2023 Keeseville Community Arts Festival
DESCRIPTION:For more information\, please visit: \n2023 Keeseville Community Arts Festival Web Site \n  \n 
URL:https://www.andersonfalls.org/event/keeseville-community-arts-festival/
LOCATION:Various Keeseville Locations
CATEGORIES:Other Community Events
ATTACH;FMTTYPE=image/jpeg:https://www.andersonfalls.org/wp4719046582/wp-content/uploads/2023/07/2023-ArtsFest-1.jpg
END:VEVENT
BEGIN:VEVENT
DTSTART;TZID=America/New_York:20230719T190000
DTEND;TZID=America/New_York:20230719T210000
DTSTAMP:20260422T175836
CREATED:20230413T203850Z
LAST-MODIFIED:20230514T204237Z
UID:2463-1689793200-1689800400@www.andersonfalls.org
SUMMARY:2023 Summer Speaker #1 - "St. John the Baptist Church"
DESCRIPTION:Guest Speaker: Steven Eric Dorr \nCome for a deep dive in the unique architecture of St. John the Baptist Church in Keeseville.  Learn the heritage of this magnificent landmark! \nPrintable Program Flyer
URL:https://www.andersonfalls.org/event/speaker/
LOCATION:Keeseville Fire Department\, 8 Pleasant Street\, Keeseville\, NY\, 12944\, United States
CATEGORIES:Summer Speakers Program
ATTACH;FMTTYPE=image/jpeg:https://www.andersonfalls.org/wp4719046582/wp-content/uploads/2023/05/Steven-Dorr-AFHS-Jul-2023.jpg
END:VEVENT
BEGIN:VEVENT
DTSTART;TZID=America/New_York:20230622T153000
DTEND;TZID=America/New_York:20230622T170000
DTSTAMP:20260422T175836
CREATED:20230116T235855Z
LAST-MODIFIED:20230117T000002Z
UID:2352-1687447800-1687453200@www.andersonfalls.org
SUMMARY:Monthly Meeting\, June 2023
DESCRIPTION:Meetings are free and open to the public.  All are welcome.
URL:https://www.andersonfalls.org/event/monthly-meeting-3/
LOCATION:Anderson Falls Heritage House Museum\, 96 Clinton Street\, Keeseville\, NY\, 12944\, United States
CATEGORIES:AFHS Meetings
ATTACH;FMTTYPE=image/png:https://www.andersonfalls.org/wp4719046582/wp-content/uploads/2022/05/afhs-logo-oval-e1653003458916.png
END:VEVENT
BEGIN:VEVENT
DTSTART;TZID=America/New_York:20230618T100000
DTEND;TZID=America/New_York:20230618T160000
DTSTAMP:20260422T175836
CREATED:20230413T200536Z
LAST-MODIFIED:20230519T004627Z
UID:2453-1687082400-1687104000@www.andersonfalls.org
SUMMARY:NYS Path Through History Weekend June 18\, 2023
DESCRIPTION:New York State’s Path Through History is a tourism and economic development initiative formed to promote increased visitation to more than seven hundred historic sites throughout the state. \nThe time 10 AM to 4 PM at AFHS is solid but may differ at each organization.  Thank you for your patience and interest. \n 
URL:https://www.andersonfalls.org/event/nys-pathway-through-histroy-weekend-june-18-2023/
LOCATION:Anderson Falls Heritage House Museum\, 96 Clinton Street\, Keeseville\, NY\, 12944\, United States
CATEGORIES:Other Community Events
ATTACH;FMTTYPE=image/jpeg:https://www.andersonfalls.org/wp4719046582/wp-content/uploads/2023/04/PathThruHistory.jpg
END:VEVENT
BEGIN:VEVENT
DTSTART;TZID=America/New_York:20230617T100000
DTEND;TZID=America/New_York:20230617T160000
DTSTAMP:20260422T175836
CREATED:20230413T184853Z
LAST-MODIFIED:20230519T004251Z
UID:2438-1686996000-1687017600@www.andersonfalls.org
SUMMARY:NYS Path Through History Weekend June 17\, 2023
DESCRIPTION:New York State’s Path Through History is a tourism and economic development initiative formed to promote increased visitation to more than seven hundred historic sites throughout the state. \nThe time 10 AM to 4 PM at AFHS is solid\, but may differ at each organization.  Thank you for your patience and interest. \n  \n 
URL:https://www.andersonfalls.org/event/nys-pathway-through-history-weekend-june-17-2023/
LOCATION:Anderson Falls Heritage House Museum\, 96 Clinton Street\, Keeseville\, NY\, 12944\, United States
CATEGORIES:Other Community Events
ATTACH;FMTTYPE=image/jpeg:https://www.andersonfalls.org/wp4719046582/wp-content/uploads/2023/04/PathThruHistory.jpg
END:VEVENT
BEGIN:VEVENT
DTSTART;TZID=America/New_York:20230601T100000
DTEND;TZID=America/New_York:20230601T140000
DTSTAMP:20260422T175836
CREATED:20230408T232216Z
LAST-MODIFIED:20240311T020634Z
UID:2426-1685613600-1685628000@www.andersonfalls.org
SUMMARY:AFHS Opening Day June 1\, 2023
DESCRIPTION:You are invited to join us at the Anderson Falls Heritage Society as we open the Heritage House Museum to the public for the 2023 season. \nThere are plenty of exhibits for one and all\, not to mention our gift shop.  Please stop by and review the history that made Keeseville and nearby hamlets such an interesting area for countless people to live\, work\, and take vacations. \nThe time and date above are for this day only.  Please check the season schedule below (in the footer) for dates and times the Museum will normally be open. \n 
URL:https://www.andersonfalls.org/event/afhs-opening-day-june-1-2023/
LOCATION:Anderson Falls Heritage House Museum\, 96 Clinton Street\, Keeseville\, NY\, 12944\, United States
CATEGORIES:Other Community Events
ATTACH;FMTTYPE=image/jpeg:https://www.andersonfalls.org/wp4719046582/wp-content/uploads/2022/05/AFHSWithSign-1.jpg
END:VEVENT
BEGIN:VEVENT
DTSTART;TZID=America/New_York:20230525T153000
DTEND;TZID=America/New_York:20230525T170000
DTSTAMP:20260422T175836
CREATED:20230116T235342Z
LAST-MODIFIED:20230116T235519Z
UID:2349-1685028600-1685034000@www.andersonfalls.org
SUMMARY:Monthly Meeting\, May 2023
DESCRIPTION:Meetings are free and open to the public.  All are welcome.
URL:https://www.andersonfalls.org/event/monthly-meeting-may-2023/
LOCATION:Anderson Falls Heritage House Museum\, 96 Clinton Street\, Keeseville\, NY\, 12944\, United States
CATEGORIES:AFHS Meetings
ATTACH;FMTTYPE=image/png:https://www.andersonfalls.org/wp4719046582/wp-content/uploads/2022/05/afhs-logo-oval-e1653003458916.png
END:VEVENT
BEGIN:VEVENT
DTSTART;TZID=America/New_York:20230428T100000
DTEND;TZID=America/New_York:20230428T160000
DTSTAMP:20260422T175836
CREATED:20230420T152118Z
LAST-MODIFIED:20230421T223134Z
UID:2559-1682676000-1682697600@www.andersonfalls.org
SUMMARY:National Historic Marker Day April 28\, 2023
DESCRIPTION:“National Historic Marker Day invites volunteers and communities to come together to maintain their markers. Unfortunately\, weather and time take their toll on these small monuments to history. By working together\, we not only ensure these markers tell the stories to future generations\, but we also take the opportunity to celebrate the history and culture they preserve. They tell stories of cultural\, national\, and historical significance. They also remind us of the people who lived\, worked\, contributed\, played\, created\, and survived in communities all across the country.” \nThe Pomeroy Foundation is promoting this event and is in the processing of coordinating with Boy Scout Troop 8005 to clean 15 historic markers in the Towns of Au Sable and Chesterfield\, New York. \nPlease call (518) 834-9219 for the intinerary.
URL:https://www.andersonfalls.org/event/national-historic-marker-day/
LOCATION:Location: Various venues where the markers are placed.
CATEGORIES:Other Community Events
ATTACH;FMTTYPE=image/jpeg:https://www.andersonfalls.org/wp4719046582/wp-content/uploads/2023/04/CleanedAMarker.jpg
END:VEVENT
BEGIN:VEVENT
DTSTART;TZID=America/New_York:20230427T153000
DTEND;TZID=America/New_York:20230427T170000
DTSTAMP:20260422T175836
CREATED:20230116T234910Z
LAST-MODIFIED:20230116T235032Z
UID:2346-1682609400-1682614800@www.andersonfalls.org
SUMMARY:Monthly Meeting\, April 2023
DESCRIPTION:Meetings are free and open to the public.  All are welcome.
URL:https://www.andersonfalls.org/event/monthly-meeting-april-2023/
LOCATION:Anderson Falls Heritage House Museum\, 96 Clinton Street\, Keeseville\, NY\, 12944\, United States
CATEGORIES:AFHS Meetings
ATTACH;FMTTYPE=image/png:https://www.andersonfalls.org/wp4719046582/wp-content/uploads/2022/05/afhs-logo-oval-e1653003458916.png
END:VEVENT
BEGIN:VEVENT
DTSTART;TZID=America/New_York:20230323T153000
DTEND;TZID=America/New_York:20230323T170000
DTSTAMP:20260422T175836
CREATED:20230115T031517Z
LAST-MODIFIED:20230115T031711Z
UID:2339-1679585400-1679590800@www.andersonfalls.org
SUMMARY:Monthly Meeting\, March 2023
DESCRIPTION:Meetings are free and open to the public.  All are welcome.
URL:https://www.andersonfalls.org/event/monthly-meeting-2/
LOCATION:Anderson Falls Heritage House Museum\, 96 Clinton Street\, Keeseville\, NY\, 12944\, United States
CATEGORIES:AFHS Meetings
ATTACH;FMTTYPE=image/png:https://www.andersonfalls.org/wp4719046582/wp-content/uploads/2022/05/afhs-logo-oval-e1653003458916.png
END:VEVENT
BEGIN:VEVENT
DTSTART;TZID=America/New_York:20230223T153000
DTEND;TZID=America/New_York:20230223T170000
DTSTAMP:20260422T175836
CREATED:20230115T025209Z
LAST-MODIFIED:20230115T030859Z
UID:2334-1677166200-1677171600@www.andersonfalls.org
SUMMARY:Monthly Meeting\, February 2023
DESCRIPTION:Meetings are free and open to the public.  All are welcome.
URL:https://www.andersonfalls.org/event/monthly-meeting/
LOCATION:Anderson Falls Heritage House Museum\, 96 Clinton Street\, Keeseville\, NY\, 12944\, United States
CATEGORIES:AFHS Meetings
ATTACH;FMTTYPE=image/png:https://www.andersonfalls.org/wp4719046582/wp-content/uploads/2022/05/afhs-logo-oval-e1653003458916.png
END:VEVENT
BEGIN:VEVENT
DTSTART;TZID=America/New_York:20221117T153000
DTEND;TZID=America/New_York:20221117T170000
DTSTAMP:20260422T175836
CREATED:20220329T052608Z
LAST-MODIFIED:20230115T022204Z
UID:1692-1668699000-1668704400@www.andersonfalls.org
SUMMARY:Monthly Meeting\, November 2022
DESCRIPTION:Meetings are free and open to the public. All are welcome. \n\n\n\n\n\n\n\n\n\n\n\n\n\n\n\n\n\n.
URL:https://www.andersonfalls.org/event/monthly-meeting-november-2022/
LOCATION:Anderson Falls Heritage House Museum\, 96 Clinton Street\, Keeseville\, NY\, 12944\, United States
CATEGORIES:AFHS Meetings
ATTACH;FMTTYPE=image/png:https://www.andersonfalls.org/wp4719046582/wp-content/uploads/2021/02/afhs-logo-oval.png
END:VEVENT
BEGIN:VEVENT
DTSTART;TZID=America/New_York:20221027T153000
DTEND;TZID=America/New_York:20221027T170000
DTSTAMP:20260422T175836
CREATED:20220329T052334Z
LAST-MODIFIED:20220519T233604Z
UID:1690-1666884600-1666890000@www.andersonfalls.org
SUMMARY:Monthly Meeting\, October 2022
DESCRIPTION:Meetings are free and open to the public. All are welcome.
URL:https://www.andersonfalls.org/event/monthly-meeting-october-2022/
LOCATION:Anderson Falls Heritage House Museum\, 96 Clinton Street\, Keeseville\, NY\, 12944\, United States
CATEGORIES:AFHS Meetings
ATTACH;FMTTYPE=image/png:https://www.andersonfalls.org/wp4719046582/wp-content/uploads/2022/05/afhs-logo-oval-e1653003458916.png
END:VEVENT
BEGIN:VEVENT
DTSTART;TZID=America/New_York:20221012T190000
DTEND;TZID=America/New_York:20221012T203000
DTSTAMP:20260422T175836
CREATED:20220831T171315Z
LAST-MODIFIED:20220831T171315Z
UID:2284-1665601200-1665606600@www.andersonfalls.org
SUMMARY:Hidden in Plain Sight: Seneca Perry and Son
DESCRIPTION:  \n\n\n\n\n\nSeneca Perry (1796-1860)\, a boat wright turned carpenter-joiner\, relocated his family from Bennington\, VT to Keeseville when his son\, Isaac Gale Perry\, was 7. Isaac (1822-1904) attended the Keeseville Academy until age 10 when he left to apprentice with his father from 1832-1854. In New York City\, Isaac apprenticed in the office of architect Thomas R. Jackson (1826-1901). Known as New York’s first “State Architect\,” Isaac Gale Perry was active across the state building institutional structures and finishing the New York State Capital in Albany. This talk is focused on four local buildings that were once part of the townscape of Keeseville and Ausable Chasm that the Perrys built or designed together or alone
URL:https://www.andersonfalls.org/event/hidden-in-plain-sight-seneca-perry-and-son/
LOCATION:Keeseville Fire Department\, 8 Pleasant Street\, Keeseville\, NY\, 12944\, United States
CATEGORIES:Summer Speakers Program
ATTACH;FMTTYPE=application/pdf:https://www.andersonfalls.org/wp4719046582/wp-content/uploads/2022/08/AFHS-10-12-2022-1-1.pdf
END:VEVENT
BEGIN:VEVENT
DTSTART;TZID=America/New_York:20220922T153000
DTEND;TZID=America/New_York:20220922T170000
DTSTAMP:20260422T175836
CREATED:20220329T051042Z
LAST-MODIFIED:20220421T142439Z
UID:1688-1663860600-1663866000@www.andersonfalls.org
SUMMARY:Monthly Meeting\, September 2022
DESCRIPTION:Monthly meetings are free and open to the public. All are welcome \n\n\n\n\n\n\n\n\n\n\n\n\n\n\n\n\n\n 
URL:https://www.andersonfalls.org/event/monthly-meeting-september-2022/
LOCATION:Anderson Falls Heritage House Museum\, 96 Clinton Street\, Keeseville\, NY\, 12944\, United States
CATEGORIES:AFHS Meetings
ATTACH;FMTTYPE=image/png:https://www.andersonfalls.org/wp4719046582/wp-content/uploads/2021/02/afhs-logo-oval.png
END:VEVENT
BEGIN:VEVENT
DTSTART;TZID=America/New_York:20220921T190000
DTEND;TZID=America/New_York:20220921T210000
DTSTAMP:20260422T175836
CREATED:20220330T211936Z
LAST-MODIFIED:20220816T164602Z
UID:1735-1663786800-1663794000@www.andersonfalls.org
SUMMARY:"Seven Facts About the War of 1812 That Will Amaze You!"
DESCRIPTION:Presented by: Mark Barie \n\n  \n\n\n\nPrintable Program Flyer \n\n\n\n\nAFHS Summer Speaker Series
URL:https://www.andersonfalls.org/event/seven-facts-about-the-war-of-1812-that-will-amaze-you/
LOCATION:Keeseville Fire Department\, 8 Pleasant Street\, Keeseville\, NY\, 12944\, United States
CATEGORIES:Summer Speakers Program
ATTACH;FMTTYPE=application/pdf:https://www.andersonfalls.org/wp4719046582/wp-content/uploads/2022/03/AFHS-9-21-2022-.pdf
END:VEVENT
BEGIN:VEVENT
DTSTART;TZID=America/New_York:20220901T190000
DTEND;TZID=America/New_York:20220901T210000
DTSTAMP:20260422T175836
CREATED:20220816T162508Z
LAST-MODIFIED:20220816T164427Z
UID:2262-1662058800-1662066000@www.andersonfalls.org
SUMMARY:The Remarkable Heritage of the Keeseville  Town Clock And Bell
DESCRIPTION:Co-sponsored by: Au Sable River Lodge #149 F. & A.M. \n  \n\n\n\nPresented by: G. Russell Oechsle \n  \n\n\n\nPrintable Program Flyer \n\n\n \n\n\n\n\n\n\n\n\nAFHS Summer Speaker Series
URL:https://www.andersonfalls.org/event/the-remarkableheritage-of-the-keeseville-town-clock-and-bell/
LOCATION:Keeseville Fire Department\, 8 Pleasant Street\, Keeseville\, NY\, 12944\, United States
CATEGORIES:Summer Speakers Program
ATTACH;FMTTYPE=image/jpeg:https://www.andersonfalls.org/wp4719046582/wp-content/uploads/2022/08/Town-Clock-Bell-Sep-1-2022REVISED-e1660506163928.jpg
END:VEVENT
BEGIN:VEVENT
DTSTART;TZID=America/New_York:20220825T153000
DTEND;TZID=America/New_York:20220825T170000
DTSTAMP:20260422T175836
CREATED:20220329T045638Z
LAST-MODIFIED:20220421T144356Z
UID:1679-1661441400-1661446800@www.andersonfalls.org
SUMMARY:Monthly Meeting\, August 2022
DESCRIPTION:All meetings are free and open to the public. All are welcome.
URL:https://www.andersonfalls.org/event/monthly-meeting-august-2022/
LOCATION:Anderson Falls Heritage House Museum\, 96 Clinton Street\, Keeseville\, NY\, 12944\, United States
CATEGORIES:AFHS Meetings
ATTACH;FMTTYPE=image/png:https://www.andersonfalls.org/wp4719046582/wp-content/uploads/2021/02/afhs-logo-oval.png
END:VEVENT
BEGIN:VEVENT
DTSTART;TZID=America/New_York:20220817T190000
DTEND;TZID=America/New_York:20220817T210000
DTSTAMP:20260422T175836
CREATED:20220330T211649Z
LAST-MODIFIED:20220816T164346Z
UID:1733-1660762800-1660770000@www.andersonfalls.org
SUMMARY:"Kessel Park Inn\, Home of Movie Pioneer and Keystone Comedies Founder"
DESCRIPTION:Presented by: Zoanne and Rick Schnell \n\nPrintable Program Flyer \n\n\n\nAFHS Summer Speaker Series
URL:https://www.andersonfalls.org/event/kessel-park-inn-home-of-movie-pioneer-and-keystone-comedies-founder/
LOCATION:Keeseville Fire Department\, 8 Pleasant Street\, Keeseville\, NY\, 12944\, United States
CATEGORIES:Summer Speakers Program
ATTACH;FMTTYPE=application/pdf:https://www.andersonfalls.org/wp4719046582/wp-content/uploads/2022/03/AFHS-8-17-2022-Kessel-1.pdf
END:VEVENT
BEGIN:VEVENT
DTSTART;TZID=America/New_York:20220728T153000
DTEND;TZID=America/New_York:20220728T170000
DTSTAMP:20260422T175836
CREATED:20220329T050707Z
LAST-MODIFIED:20220421T144842Z
UID:1683-1659022200-1659027600@www.andersonfalls.org
SUMMARY:Monthly Meeting\, July 2022
DESCRIPTION:Monthly meetings are free and open to the public. All are welcome.
URL:https://www.andersonfalls.org/event/monthly-meeting-july-2022/
LOCATION:Anderson Falls Heritage House Museum\, 96 Clinton Street\, Keeseville\, NY\, 12944\, United States
CATEGORIES:AFHS Meetings
ATTACH;FMTTYPE=image/png:https://www.andersonfalls.org/wp4719046582/wp-content/uploads/2021/02/afhs-logo-oval.png
END:VEVENT
BEGIN:VEVENT
DTSTART;TZID=America/New_York:20220720T190000
DTEND;TZID=America/New_York:20220720T210000
DTSTAMP:20260422T175836
CREATED:20220330T211226Z
LAST-MODIFIED:20220714T173553Z
UID:1731-1658343600-1658350800@www.andersonfalls.org
SUMMARY:"A Champlain Valley Reader"
DESCRIPTION:By Richard B. Frost \n\n\n\nPrintable Program Flyer \n\n\n\n\n\n\nAFHS Summer Speaker Series\n\n\n\n\n  \n\n  \n\n  \n\n  \n\n 
URL:https://www.andersonfalls.org/event/a-champlain-valley-reader/
LOCATION:Keeseville Fire Department\, 8 Pleasant Street\, Keeseville\, NY\, 12944\, United States
CATEGORIES:Summer Speakers Program
ATTACH;FMTTYPE=image/jpeg:https://www.andersonfalls.org/wp4719046582/wp-content/uploads/2022/05/AFHS-7-20-2022-.jpg
END:VEVENT
END:VCALENDAR